Workbook
Name Inputs: #REF!
Name Inputs_PrintArea: #REF!
Name Intro: #REF!
Name Intro_PrintArea: #REF!
Name list_choice: 'Work Area'!$M$1
Name list_data: 'Work Area'!$K$1:$K$5
Name modeltype: 'Work Area'!$B$1
Name Results: #REF!
Name Results_PrintArea: #REF!

Sheet Work Area
A1: modeltype | B1: 1 | K1: exactly | M1: 3
K2: fewer than
K3: at most
K4: at least
A5: Single-server | E5: Multiple-server | H5: Finite-source | K5: more than
A7: r | B7: =#REF!/#REF! -> #REF! | E7: r | F7: =#REF!/(#REF!*#REF!) -> #REF! | H7: P0 | I7: =1/SUM(I17:I47) -> #REF!
A8: P0 | B8: =(1-B7)*B7^0 -> #REF! | E8: P0 | F8: =1/(SUM(F17:F26)+F30*(1/(1-F7))) -> #REF! | H8: r | I8: =1-I7 -> #REF!
A9: Pn | B9: =(1-B7)*B7^#REF! -> #REF! | E9: Pn | F9: =IF(#REF!>#REF!,(((#REF!/#REF!)^#REF!)/(FACT(#REF!)*#REF!^(#REF!-#REF!))*'Work Area'!F8),(((#REF!/#REF!)^#REF!)/FACT(#REF!))*'Work Area'!F8) -> #REF! | H9: Lq | I9: =#REF!-((#REF!+#REF!)/#REF!)*(1-'Work Area'!I7) -> #REF!
A10: L | B10: =#REF!/(#REF!-#REF!) -> #REF! | E10: Lq | F10: =(F8*(#REF!/#REF!)^#REF!*'Work Area'!F7)/(FACT(#REF!)*(1-'Work Area'!F7)^2) -> #REF! | H10: L | I10: =#REF!-(#REF!/#REF!)*(1-'Work Area'!I7) -> #REF!
A11: Lq | B11: =B7*B10 -> #REF! | E11: Wq | F11: =F10/#REF! -> #REF! | H11: Wq | I11: =I9/((#REF!-'Work Area'!I10)*#REF!) -> #REF!
A12: W | B12: =1/(#REF!-#REF!) -> #REF! | E12: W | F12: =F11+1/#REF! -> #REF! | H12: W | I12: =I10/((#REF!-'Work Area'!I10)*#REF!) -> #REF!
A13: Wq | B13: =B7*B12 -> #REF! | E13: L | F13: =#REF!*'Work Area'!F12 -> #REF!
E16: n | F16: (l/m)n/n! | H16: n | I16: N!/(N-n)! x (l/m)n
E17: 0 | F17: 1 | H17: 0 | I17: 1
B18: =ADDRESS(CELL("row",B23)+#REF!,CELL("col",'Work Area'!B23),1) -> #REF! | E18: 1 | F18: =IF(E18>=#REF!,0,((#REF!/#REF!)^'Work Area'!E18)/FACT(E18)) -> #REF! | H18: 1 | I18: =IF(H18>#REF!,0,(FACT(#REF!)/FACT(#REF!-'Work Area'!H18))*(#REF!/#REF!)^'Work Area'!H18) -> #REF!
B19: =CELL("address",B23)&":"&ADDRESS(CELL("row",B23)+#REF!-1,CELL("col",'Work Area'!B23),1) -> #REF! | E19: 2 | F19: =IF(E19>=#REF!,0,((#REF!/#REF!)^'Work Area'!E19)/FACT(E19)) -> #REF! | H19: 2 | I19: =IF(H19>#REF!,0,(FACT(#REF!)/FACT(#REF!-'Work Area'!H19))*(#REF!/#REF!)^'Work Area'!H19) -> #REF!
B20: =CELL("address",B23)&":"&ADDRESS(CELL("row",B23)+#REF!,CELL("col",'Work Area'!B23),1) -> #REF! | E20: 3 | F20: =IF(E20>=#REF!,0,((#REF!/#REF!)^'Work Area'!E20)/FACT(E20)) -> #REF! | H20: 3 | I20: =IF(H20>#REF!,0,(FACT(#REF!)/FACT(#REF!-'Work Area'!H20))*(#REF!/#REF!)^'Work Area'!H20) -> #REF!
B21: =CHOOSE(list_choice,INDIRECT(B18),SUM(INDIRECT(B19)),SUM(INDIRECT(B20)),1-SUM(INDIRECT(B19)),1-SUM(INDIRECT(B20))) -> #REF! | E21: 4 | F21: =IF(E21>=#REF!,0,((#REF!/#REF!)^'Work Area'!E21)/FACT(E21)) -> #REF! | H21: 4 | I21: =IF(H21>#REF!,0,(FACT(#REF!)/FACT(#REF!-'Work Area'!H21))*(#REF!/#REF!)^'Work Area'!H21) -> #REF!
E22: 5 | F22: =IF(E22>=#REF!,0,((#REF!/#REF!)^'Work Area'!E22)/FACT(E22)) -> #REF! | H22: 5 | I22: =IF(H22>#REF!,0,(FACT(#REF!)/FACT(#REF!-'Work Area'!H22))*(#REF!/#REF!)^'Work Area'!H22) -> #REF!
A23: 0 | B23: =(1-B$7)*B$7^A23 -> #REF! | E23: 6 | F23: =IF(E23>=#REF!,0,((#REF!/#REF!)^'Work Area'!E23)/FACT(E23)) -> #REF! | H23: 6 | I23: =IF(H23>#REF!,0,(FACT(#REF!)/FACT(#REF!-'Work Area'!H23))*(#REF!/#REF!)^'Work Area'!H23) -> #REF!
A24: 1 | B24: =(1-B$7)*B$7^A24 -> #REF! | E24: 7 | F24: =IF(E24>=#REF!,0,((#REF!/#REF!)^'Work Area'!E24)/FACT(E24)) -> #REF! | H24: 7 | I24: =IF(H24>#REF!,0,(FACT(#REF!)/FACT(#REF!-'Work Area'!H24))*(#REF!/#REF!)^'Work Area'!H24) -> #REF!
A25: 2 | B25: =(1-B$7)*B$7^A25 -> #REF! | E25: 8 | F25: =IF(E25>=#REF!,0,((#REF!/#REF!)^'Work Area'!E25)/FACT(E25)) -> #REF! | H25: 8 | I25: =IF(H25>#REF!,0,(FACT(#REF!)/FACT(#REF!-'Work Area'!H25))*(#REF!/#REF!)^'Work Area'!H25) -> #REF!
A26: 3 | B26: =(1-B$7)*B$7^A26 -> #REF! | E26: 9 | F26: =IF(E26>=#REF!,0,((#REF!/#REF!)^'Work Area'!E26)/FACT(E26)) -> #REF! | H26: 9 | I26: =IF(H26>#REF!,0,(FACT(#REF!)/FACT(#REF!-'Work Area'!H26))*(#REF!/#REF!)^'Work Area'!H26) -> #REF!
A27: 4 | B27: =(1-B$7)*B$7^A27 -> #REF! | H27: 10 | I27: =IF(H27>#REF!,0,(FACT(#REF!)/FACT(#REF!-'Work Area'!H27))*(#REF!/#REF!)^'Work Area'!H27) -> #REF!
A28: 5 | B28: =(1-B$7)*B$7^A28 -> #REF! | H28: 11 | I28: =IF(H28>#REF!,0,(FACT(#REF!)/FACT(#REF!-'Work Area'!H28))*(#REF!/#REF!)^'Work Area'!H28) -> #REF!
A29: 6 | B29: =(1-B$7)*B$7^A29 -> #REF! | F29: (l/m)n/n! | H29: 12 | I29: =IF(H29>#REF!,0,(FACT(#REF!)/FACT(#REF!-'Work Area'!H29))*(#REF!/#REF!)^'Work Area'!H29) -> #REF!
A30: 7 | B30: =(1-B$7)*B$7^A30 -> #REF! | F30: =((#REF!/#REF!)^#REF!)/FACT(#REF!) -> #REF! | H30: 13 | I30: =IF(H30>#REF!,0,(FACT(#REF!)/FACT(#REF!-'Work Area'!H30))*(#REF!/#REF!)^'Work Area'!H30) -> #REF!
A31: 8 | B31: =(1-B$7)*B$7^A31 -> #REF! | H31: 14 | I31: =IF(H31>#REF!,0,(FACT(#REF!)/FACT(#REF!-'Work Area'!H31))*(#REF!/#REF!)^'Work Area'!H31) -> #REF!
A32: 9 | B32: =(1-B$7)*B$7^A32 -> #REF! | H32: 15 | I32: =IF(H32>#REF!,0,(FACT(#REF!)/FACT(#REF!-'Work Area'!H32))*(#REF!/#REF!)^'Work Area'!H32) -> #REF!
A33: 10 | B33: =(1-B$7)*B$7^A33 -> #REF! | H33: 16 | I33: =IF(H33>#REF!,0,(FACT(#REF!)/FACT(#REF!-'Work Area'!H33))*(#REF!/#REF!)^'Work Area'!H33) -> #REF!
A34: 11 | B34: =(1-B$7)*B$7^A34 -> #REF! | F34: =ADDRESS(CELL("row",F39)+#REF!,CELL("col",'Work Area'!F39),1) -> #REF! | H34: 17 | I34: =IF(H34>#REF!,0,(FACT(#REF!)/FACT(#REF!-'Work Area'!H34))*(#REF!/#REF!)^'Work Area'!H34) -> #REF!
A35: 12 | B35: =(1-B$7)*B$7^A35 -> #REF! | F35: =CELL("address",F39)&":"&ADDRESS(CELL("row",F39)+#REF!-1,CELL("col",'Work Area'!F39),1) -> #REF! | H35: 18 | I35: =IF(H35>#REF!,0,(FACT(#REF!)/FACT(#REF!-'Work Area'!H35))*(#REF!/#REF!)^'Work Area'!H35) -> #REF!
A36: 13 | B36: =(1-B$7)*B$7^A36 -> #REF! | F36: =CELL("address",F39)&":"&ADDRESS(CELL("row",F39)+#REF!,CELL("col",'Work Area'!F39),1) -> #REF! | H36: 19 | I36: =IF(H36>#REF!,0,(FACT(#REF!)/FACT(#REF!-'Work Area'!H36))*(#REF!/#REF!)^'Work Area'!H36) -> #REF!
A37: 14 | B37: =(1-B$7)*B$7^A37 -> #REF! | F37: =CHOOSE(list_choice,INDIRECT(F34),SUM(INDIRECT(F35)),SUM(INDIRECT(F36)),1-SUM(INDIRECT(F35)),1-SUM(INDIRECT(F36))) -> #REF! | H37: 20 | I37: =IF(H37>#REF!,0,(FACT(#REF!)/FACT(#REF!-'Work Area'!H37))*(#REF!/#REF!)^'Work Area'!H37) -> #REF!
A38: 15 | B38: =(1-B$7)*B$7^A38 -> #REF! | H38: 21 | I38: =IF(H38>#REF!,0,(FACT(#REF!)/FACT(#REF!-'Work Area'!H38))*(#REF!/#REF!)^'Work Area'!H38) -> #REF!
A39: 16 | B39: =(1-B$7)*B$7^A39 -> #REF! | E39: 0 | F39: =IF(E39>#REF!,(((#REF!/#REF!)^E39)/(FACT(#REF!)*#REF!^(E39-#REF!))*F$8),(((#REF!/#REF!)^E39)/FACT(E39))*F$8) -> #REF! | H39: 22 | I39: =IF(H39>#REF!,0,(FACT(#REF!)/FACT(#REF!-'Work Area'!H39))*(#REF!/#REF!)^'Work Area'!H39) -> #REF!
A40: 17 | B40: =(1-B$7)*B$7^A40 -> #REF! | E40: 1 | F40: =IF(E40>#REF!,(((#REF!/#REF!)^E40)/(FACT(#REF!)*#REF!^(E40-#REF!))*F$8),(((#REF!/#REF!)^E40)/FACT(E40))*F$8) -> #REF! | H40: 23 | I40: =IF(H40>#REF!,0,(FACT(#REF!)/FACT(#REF!-'Work Area'!H40))*(#REF!/#REF!)^'Work Area'!H40) -> #REF!
A41: 18 | B41: =(1-B$7)*B$7^A41 -> #REF! | E41: 2 | F41: =IF(E41>#REF!,(((#REF!/#REF!)^E41)/(FACT(#REF!)*#REF!^(E41-#REF!))*F$8),(((#REF!/#REF!)^E41)/FACT(E41))*F$8) -> #REF! | H41: 24 | I41: =IF(H41>#REF!,0,(FACT(#REF!)/FACT(#REF!-'Work Area'!H41))*(#REF!/#REF!)^'Work Area'!H41) -> #REF!
A42: 19 | B42: =(1-B$7)*B$7^A42 -> #REF! | E42: 3 | F42: =IF(E42>#REF!,(((#REF!/#REF!)^E42)/(FACT(#REF!)*#REF!^(E42-#REF!))*F$8),(((#REF!/#REF!)^E42)/FACT(E42))*F$8) -> #REF! | H42: 25 | I42: =IF(H42>#REF!,0,(FACT(#REF!)/FACT(#REF!-'Work Area'!H42))*(#REF!/#REF!)^'Work Area'!H42) -> #REF!
A43: 20 | B43: =(1-B$7)*B$7^A43 -> #REF! | E43: 4 | F43: =IF(E43>#REF!,(((#REF!/#REF!)^E43)/(FACT(#REF!)*#REF!^(E43-#REF!))*F$8),(((#REF!/#REF!)^E43)/FACT(E43))*F$8) -> #REF! | H43: 26 | I43: =IF(H43>#REF!,0,(FACT(#REF!)/FACT(#REF!-'Work Area'!H43))*(#REF!/#REF!)^'Work Area'!H43) -> #REF!
...

Sheet student data
B1: Qasem | D1: Hassan | F1: Jesse | H1: Max | J1: Khaled | L1: Ammar | N1: Mohammed | P1: Mohammed | R1: Sabine | T1: Nathan | V1: Matthew | X1: Mary June | Z1: Weinan | AB1: Jaggar | AD1: Chris | AF1: Jack | AH1: Jaclyn | AJ1: Hailey | AL1: Shanay | AN1: Nicholas | AP1: Rebecca | AR1: Gagan | AT1: Tyshaya | AV1: Tyson | AX1: Rona | AZ1: Christopher
B2: Al Alimi | D2: Alqatifi | F2: Benneke | H2: Berger | J2: Bin Halabi | L2: Bin Halabi | N2: Bin Halabi (249174) | P2: Bin Halabi (249234) | R2: Brouwer | T2: Brown | V2: Carson | X2: Dungog | Z2: Fang | AB2: Fehr | AD2: Gallant | AF2: Gilchrist | AH2: Haffner | AJ2: Hunter | AL2: Levy | AN2: Mann | AP2: Pleasance | AR2: Rai | AT2: Smith-Nash | AV2: Thomlinson | AX2: Undar | AZ2: Wyslobocki
B3: # tellers | C3: 2 | D3: # tellers | E3: 2 | F3: # tellers | G3: 1 | H3: # tellers | I3: 1 | J3: # tellers | K3: 2 | L3: # tellers | M3: 2 | N3: # tellers | O3: 3 | P3: # tellers | Q3: 3 | R3: # tellers | S3: 1 | T3: # tellers | U3: 3 | V3: # tellers | W3: 1 | X3: # tellers | Y3: 3 | Z3: # tellers | AA3: 2 | AB3: # tellers | AC3: 1 | AD3: # tellers | AE3: 1 | AF3: # tellers | AG3: 3 | AH3: # tellers | AI3: 1 | AJ3: # tellers | AK3: 2 | AL3: # tellers | AM3: 1 | AN3: # tellers | AO3: 2 | AP3: # tellers | AQ3: 3 | AR3: # tellers | AS3: 2 | AT3: # tellers | AU3: 1 | AV3: # tellers | AW3: 3 | AX3: # tellers | AY3: 3 | AZ3: # tellers | BA3: 3 | BB3: # tellers | BC3: 3 | BD3: # tellers | BE3: 1 | BF3: # tellers | BG3: 1 | BH3: # tellers | BI3: 3 | BJ3: # tellers | BK3: 3 | BL3: # tellers | BM3: 1 | BN3: # tellers | BO3: 3 | BP3: # tellers | BQ3: 1 | BR3: # tellers | BS3: 2 | BT3: # tellers | BU3: 2 | BV3: # tellers | BW3: 1 | BX3: # tellers | BY3: 3 | BZ3: # tellers | CA3: 2 | CB3: # tellers | CC3: 2 | CD3: # tellers | CE3: 1 | CF3: # tellers | CG3: 1 | CH3: # tellers | CI3: 2 | CJ3: # tellers | CK3: 2 | CL3: # tellers | CM3: 3 | CN3: # tellers | CO3: 3 | CP3: # tellers | CQ3: 1 | CR3: # tellers | CS3: 2 | CT3: # tellers | CU3: 1
B4: arrival rate | C4: 19 | D4: arrival rate | E4: 17 | F4: arrival rate | G4: 14 | H4: arrival rate | I4: 12 | J4: arrival rate | K4: 17 | L4: arrival rate | M4: 18 | N4: arrival rate | O4: 18 | P4: arrival rate | Q4: 14 | R4: arrival rate | S4: 12 | T4: arrival rate | U4: 18 | V4: arrival rate | W4: 14 | X4: arrival rate | Y4: 18 | Z4: arrival rate | AA4: 14 | AB4: arrival rate | AC4: 14 | AD4: arrival rate | AE4: 12 | AF4: arrival rate | AG4: 17 | AH4: arrival rate | AI4: 16 | AJ4: arrival rate | AK4: 13 | AL4: arrival rate | AM4: 17 | AN4: arrival rate | AO4: 13 | AP4: arrival rate | AQ4: 18 | AR4: arrival rate | AS4: 13 | AT4: arrival rate | AU4: 14 | AV4: arrival rate | AW4: 18 | AX4: arrival rate | AY4: 18 | AZ4: arrival rate | BA4: 19 | BB4: arrival rate | BC4: 17 | BD4: arrival rate | BE4: 15 | BF4: arrival rate | BG4: 17 | BH4: arrival rate | BI4: 12 | BJ4: arrival rate | BK4: 16 | BL4: arrival rate | BM4: 13 | BN4: arrival rate | BO4: 12 | BP4: arrival rate | BQ4: 13 | BR4: arrival rate | BS4: 15 | BT4: arrival rate | BU4: 14 | BV4: arrival rate | BW4: 17 | BX4: arrival rate | BY4: 18 | BZ4: arrival rate | CA4: 19 | CB4: arrival rate | CC4: 17 | CD4: arrival rate | CE4: 14 | CF4: arrival rate | CG4: 12 | CH4: arrival rate | CI4: 17 | CJ4: arrival rate | CK4: 18 | CL4: arrival rate | CM4: 18 | CN4: arrival rate | CO4: 14 | CP4: arrival rate | CQ4: 14 | CR4: arrival rate | CS4: 13 | CT4: arrival rate | CU4: 14
B5: service rate | C5: 29 | D5: service rate | E5: 26 | F5: service rate | G5: 23 | H5: service rate | I5: 22 | J5: service rate | K5: 21 | L5: service rate | M5: 28 | N5: service rate | O5: 22 | P5: service rate | Q5: 27 | R5: service rate | S5: 24 | T5: service rate | U5: 25 | V5: service rate | W5: 20 | X5: service rate | Y5: 26 | Z5: service rate | AA5: 23 | AB5: service rate | AC5: 21 | AD5: service rate | AE5: 24 | AF5: service rate | AG5: 26 | AH5: service rate | AI5: 29 | AJ5: service rate | AK5: 29 | AL5: service rate | AM5: 26 | AN5: service rate | AO5: 23 | AP5: service rate | AQ5: 28 | AR5: service rate | AS5: 24 | AT5: service rate | AU5: 26 | AV5: service rate | AW5: 29 | AX5: service rate | AY5: 24 | AZ5: service rate | BA5: 21 | BB5: service rate | BC5: 25 | BD5: service rate | BE5: 27 | BF5: service rate | BG5: 29 | BH5: service rate | BI5: 25 | BJ5: service rate | BK5: 21 | BL5: service rate | BM5: 28 | BN5: service rate | BO5: 27 | BP5: service rate | BQ5: 20 | BR5: service rate | BS5: 27 | BT5: service rate | BU5: 21 | BV5: service rate | BW5: 21 | BX5: service rate | BY5: 26 | BZ5: service rate | CA5: 29 | CB5: service rate | CC5: 26 | CD5: service rate | CE5: 23 | CF5: service rate | CG5: 22 | CH5: service rate | CI5: 21 | CJ5: service rate | CK5: 28 | CL5: service rate | CM5: 22 | CN5: service rate | CO5: 27 | CP5: service rate | CQ5: 20 | CR5: service rate | CS5: 29 | CT5: service rate | CU5: 26
A10: capacity | B10: A)
A11: # cars line | B11: B)
A12: # cars system | B12: C)
A13: wait system | B13: D)
A14: wait line | B14: E)
A15: prob < 3 | B15: F)
A16: prob 0 | B16: G)
A17: serv rate | B17: H)
A18: util | B18: I)
B20: Okanagan Regional Bank wants to provide a drive-through window for its customers. Management estimates that
B21: customers will arrive in their cars at the arrival rate per hour specified above. The teller(s) who will staff the window
B22: can service customers at the rate per hour given above. Assuming Poisson arrivals and exponential service find the:
B24: a) capacity utilization of the teller(s)? NOTE - use the number of tellers specified
B25: b) average number cars in the waiting line?
B26: c) average number of cars in the system?
B27: d) average waiting time in the system in minutes, including service?
B28: e) average waiting time in line, in minutes?
B29: f) What is the probability of having at most 3 customers in the system?
B30: g) What is the probability of 0 (zero) customers in the system?
B31: h) If there was only one teller and arrival rate is 12 and because of limited space and a desire to provide an
B32: acceptable level of service, the bank manager would like to ensure with 95% confidence that not more than 3 cars will
... B42: Example A1_Michael_Conyette.xlsx

Sheet template for your responses
B1: Place your | C1: Place your
B2: name here | C2: data here
B3: # tellers
B4: arrival rate
B5: service rate
C7: Put your
C8: responses below
A9: capacity | B9: A)
A10: # cars line | B10: B)
A11: # cars system | B11: C)
A12: wait system | B12: D)
A13: wait line | B13: E)
A14: prob < 3 | B14: F)
A15: prob 0 | B15: G)
A16: serv rate | B16: H)
A17: util | B17: I)
B19: Okanagan Regional Bank wants to provide a drive-through window for its customers. Management estimates that
B20: customers will arrive in their cars at the arrival rate per hour specified above. The teller(s) who will staff the window
B21: can service customers at the rate per hour given above. Assuming Poisson arrivals and exponential service find the:
B23: a) capacity utilization of the teller(s)? NOTE - use the number of tellers specified
B24: b) average number cars in the waiting line?
B25: c) average number of cars in the system?
B26: d) average waiting time in the system in minutes, including service?
B27: e) average waiting time in line, in minutes?
B28: f) What is the probability of having at most 3 customers in the system?
B29: g) What is the probability of 0 (zero) customers in the system?
B30: h) If there was only one teller and arrival rate is 12 and because of limited space and a desire to provide an
B31: acceptable level of service, the bank manager would like to ensure with 95% confidence that not more than 3 cars will
... B41: Example A1_Michael_Conyette.xlsx
